BEGIN:VCALENDAR
VERSION:2.0
PRODID:-//City of Beacon - ECPv6.15.20//NONSGML v1.0//EN
CALSCALE:GREGORIAN
METHOD:PUBLISH
X-ORIGINAL-URL:https://beaconny.gov
X-WR-CALDESC:Events for City of Beacon
REFRESH-INTERVAL;VALUE=DURATION:PT1H
X-Robots-Tag:noindex
X-PUBLISHED-TTL:PT1H
BEGIN:VTIMEZONE
TZID:America/New_York
BEGIN:DAYLIGHT
TZOFFSETFROM:-0500
TZOFFSETTO:-0400
TZNAME:EDT
DTSTART:20250309T070000
END:DAYLIGHT
BEGIN:STANDARD
TZOFFSETFROM:-0400
TZOFFSETTO:-0500
TZNAME:EST
DTSTART:20251102T060000
END:STANDARD
BEGIN:DAYLIGHT
TZOFFSETFROM:-0500
TZOFFSETTO:-0400
TZNAME:EDT
DTSTART:20260308T070000
END:DAYLIGHT
BEGIN:STANDARD
TZOFFSETFROM:-0400
TZOFFSETTO:-0500
TZNAME:EST
DTSTART:20261101T060000
END:STANDARD
BEGIN:DAYLIGHT
TZOFFSETFROM:-0500
TZOFFSETTO:-0400
TZNAME:EDT
DTSTART:20270314T070000
END:DAYLIGHT
BEGIN:STANDARD
TZOFFSETFROM:-0400
TZOFFSETTO:-0500
TZNAME:EST
DTSTART:20271107T060000
END:STANDARD
END:VTIMEZONE
BEGIN:VEVENT
DTSTART;TZID=America/New_York:20260511T173000
DTEND;TZID=America/New_York:20260511T183000
DTSTAMP:20260419T232203
CREATED:20260417T143202Z
LAST-MODIFIED:20260417T143202Z
UID:19620-1778520600-1778524200@beaconny.gov
SUMMARY:"Know Your Rights" Housing Seminar
DESCRIPTION:KYR May 11 2026\n  \nKYR May 11 2026 Sp
URL:https://beaconny.gov/index.php/events/know-your-rights-housing-seminar/
LOCATION:Courtroom in City Hall\, 1 Municipal Plaza\, Beacon\, NY\, 12603\, United States
END:VEVENT
BEGIN:VEVENT
DTSTART;TZID=America/New_York:20260512T190000
DTEND;TZID=America/New_York:20260512T220000
DTSTAMP:20260419T232203
CREATED:20260102T175344Z
LAST-MODIFIED:20260102T175344Z
UID:19233-1778612400-1778623200@beaconny.gov
SUMMARY:PLANNING BOARD MEETING
DESCRIPTION:
URL:https://beaconny.gov/index.php/events/planning-board-meeting-39/
LOCATION:NY
END:VEVENT
BEGIN:VEVENT
DTSTART;TZID=America/New_York:20260519T190000
DTEND;TZID=America/New_York:20260519T220000
DTSTAMP:20260419T232203
CREATED:20260102T191754Z
LAST-MODIFIED:20260102T192248Z
UID:19249-1779217200-1779228000@beaconny.gov
SUMMARY:ZONING BOARD OF APPEALS MEETING
DESCRIPTION:
URL:https://beaconny.gov/index.php/events/zoning-board-of-appeals-27/
LOCATION:NY
END:VEVENT
END:VCALENDAR